BEGIN:VCALENDAR
VERSION:2.0
PRODID:-//GCU News - ECPv5.14.1//NONSGML v1.0//EN
CALSCALE:GREGORIAN
METHOD:PUBLISH
X-WR-CALNAME:GCU News
X-ORIGINAL-URL:https://news.gcu.edu
X-WR-CALDESC:Events for GCU News
REFRESH-INTERVAL;VALUE=DURATION:PT1H
X-Robots-Tag:noindex
X-PUBLISHED-TTL:PT1H
BEGIN:VTIMEZONE
TZID:America/Phoenix
BEGIN:STANDARD
TZOFFSETFROM:-0700
TZOFFSETTO:-0700
TZNAME:MST
DTSTART:20220101T000000
END:STANDARD
END:VTIMEZONE
BEGIN:VEVENT
DTSTART;TZID=America/Phoenix:20220829T000000
DTEND;TZID=America/Phoenix:20220903T235959
DTSTAMP:20260424T115517
CREATED:20220725T024345Z
LAST-MODIFIED:20220729T010751Z
UID:106039-1661731200-1662249599@news.gcu.edu
SUMMARY:Welcome Week
DESCRIPTION:High-spirited Welcome Week kicks off the school year with Move-In\, orientation sessions and more.
URL:https://news.gcu.edu/event/welcome-week/
LOCATION:Various venues
ATTACH;FMTTYPE=image/jpeg:https://news.gcu.edu/app/uploads/2019/08/WelcomeWeek082019-10.jpg
END:VEVENT
BEGIN:VEVENT
DTSTART;VALUE=DATE:20221003
DTEND;VALUE=DATE:20221008
DTSTAMP:20260424T115517
CREATED:20220728T182403Z
LAST-MODIFIED:20221004T174610Z
UID:106407-1664755200-1665187199@news.gcu.edu
SUMMARY:Unity Week
DESCRIPTION:Presented by the Diversity and Inclusion Department\, this weeklong event includes different events every day.
URL:https://news.gcu.edu/event/un1ty-week-2/
LOCATION:Various venues
ATTACH;FMTTYPE=image/jpeg:https://news.gcu.edu/app/uploads/2021/10/unity-week-logo-3.jpg
END:VEVENT
BEGIN:VEVENT
DTSTART;VALUE=DATE:20221007
DTEND;VALUE=DATE:20221010
DTSTAMP:20260424T115517
CREATED:20220906T173935Z
LAST-MODIFIED:20220906T173935Z
UID:108754-1665100800-1665359999@news.gcu.edu
SUMMARY:Family Weekend
DESCRIPTION:
URL:https://news.gcu.edu/event/family-weekend/
LOCATION:Various venues
ATTACH;FMTTYPE=image/jpeg:https://news.gcu.edu/app/uploads/2019/10/Family-weekend-market-13.jpg
END:VEVENT
BEGIN:VEVENT
DTSTART;VALUE=DATE:20221018
DTEND;VALUE=DATE:20221019
DTSTAMP:20260424T115518
CREATED:20221017T172524Z
LAST-MODIFIED:20221017T172524Z
UID:111918-1666051200-1666137599@news.gcu.edu
SUMMARY:Honeywell Day
DESCRIPTION:Representatives from industry partner Honeywell will be speaking to students in various College of Science\, Engineering and Technology classrooms.
URL:https://news.gcu.edu/event/honeywell-day/
LOCATION:Various venues
END:VEVENT
BEGIN:VEVENT
DTSTART;TZID=America/Phoenix:20240203T073000
DTEND;TZID=America/Phoenix:20240203T123000
DTSTAMP:20260424T115518
CREATED:20240127T023219Z
LAST-MODIFIED:20240127T023550Z
UID:130005-1706945400-1706963400@news.gcu.edu
SUMMARY:Lopes Go Local
DESCRIPTION:GCU partners with Habitat for Humanity in working on home improvement projects in the neighborhood surrounding the University.
URL:https://news.gcu.edu/event/lopes-go-local-2/
LOCATION:Various venues
ATTACH;FMTTYPE=image/jpeg:https://news.gcu.edu/app/uploads/2023/11/LopesGoLocal-rf-110423-014.jpg
END:VEVENT
BEGIN:VEVENT
DTSTART;VALUE=DATE:20240302
DTEND;VALUE=DATE:20240303
DTSTAMP:20260424T115518
CREATED:20240223T222924Z
LAST-MODIFIED:20240223T224006Z
UID:131367-1709337600-1709423999@news.gcu.edu
SUMMARY:Homecoming
DESCRIPTION:Schedule
URL:https://news.gcu.edu/event/homecoming/
LOCATION:Various venues
ATTACH;FMTTYPE=image/jpeg:https://news.gcu.edu/app/uploads/2023/02/Homecoming-rf-022423-004-1.jpg
END:VEVENT
END:VCALENDAR