BEGIN:VCALENDAR
VERSION:2.0
PRODID:-//GCU News - ECPv5.14.1//NONSGML v1.0//EN
CALSCALE:GREGORIAN
METHOD:PUBLISH
X-WR-CALNAME:GCU News
X-ORIGINAL-URL:https://news.gcu.edu
X-WR-CALDESC:Events for GCU News
REFRESH-INTERVAL;VALUE=DURATION:PT1H
X-Robots-Tag:noindex
X-PUBLISHED-TTL:PT1H
BEGIN:VTIMEZONE
TZID:America/Phoenix
BEGIN:STANDARD
TZOFFSETFROM:-0700
TZOFFSETTO:-0700
TZNAME:MST
DTSTART:20220101T000000
END:STANDARD
END:VTIMEZONE
BEGIN:VEVENT
DTSTART;TZID=America/Phoenix:20220912T120000
DTEND;TZID=America/Phoenix:20220912T130000
DTSTAMP:20260419T184827
CREATED:20220909T143706Z
LAST-MODIFIED:20220909T143706Z
UID:109325-1662984000-1662987600@news.gcu.edu
SUMMARY:CAB Marketing Table
DESCRIPTION:
URL:https://news.gcu.edu/event/cab-marketing-table-4/2022-09-12/
LOCATION:Prescott Promenade
END:VEVENT
BEGIN:VEVENT
DTSTART;TZID=America/Phoenix:20221003T113000
DTEND;TZID=America/Phoenix:20221003T130000
DTSTAMP:20260419T184827
CREATED:20220728T171223Z
LAST-MODIFIED:20220728T222614Z
UID:106353-1664796600-1664802000@news.gcu.edu
SUMMARY:CAB marketing table
DESCRIPTION:
URL:https://news.gcu.edu/event/cab-marketing-table-2/2022-10-03/
LOCATION:Prescott Promenade
END:VEVENT
BEGIN:VEVENT
DTSTART;TZID=America/Phoenix:20221107T113000
DTEND;TZID=America/Phoenix:20221107T130000
DTSTAMP:20260419T184827
CREATED:20220729T015229Z
LAST-MODIFIED:20220729T015232Z
UID:106670-1667820600-1667826000@news.gcu.edu
SUMMARY:CAB marketing table
DESCRIPTION:
URL:https://news.gcu.edu/event/cab-marketing-table-3/2022-11-07/
LOCATION:Prescott Promenade
END:VEVENT
BEGIN:VEVENT
DTSTART;TZID=America/Phoenix:20221114T113000
DTEND;TZID=America/Phoenix:20221114T140000
DTSTAMP:20260419T184827
CREATED:20221101T195913Z
LAST-MODIFIED:20221101T195913Z
UID:112793-1668425400-1668434400@news.gcu.edu
SUMMARY:International education week fair
DESCRIPTION:Students RSVP in Career Connections.
URL:https://news.gcu.edu/event/international-education-week-fair/
LOCATION:Prescott Promenade
END:VEVENT
BEGIN:VEVENT
DTSTART;TZID=America/Phoenix:20221114T170000
DTEND;TZID=America/Phoenix:20221114T210000
DTSTAMP:20260419T184827
CREATED:20221101T195240Z
LAST-MODIFIED:20221101T195240Z
UID:112783-1668445200-1668459600@news.gcu.edu
SUMMARY:Student athlete career fair
DESCRIPTION:Students RSVP in Career Connections.
URL:https://news.gcu.edu/event/student-athlete-career-fair/
LOCATION:Prescott Promenade
END:VEVENT
BEGIN:VEVENT
DTSTART;TZID=America/Phoenix:20221205T113000
DTEND;TZID=America/Phoenix:20221205T130000
DTSTAMP:20260419T184827
CREATED:20221101T214539Z
LAST-MODIFIED:20230113T175711Z
UID:112864-1670239800-1670245200@news.gcu.edu
SUMMARY:C.A.B marketing table
DESCRIPTION:Hosted by CAB: Marketing.
URL:https://news.gcu.edu/event/cab-marketing-table/
LOCATION:Prescott Promenade
END:VEVENT
BEGIN:VEVENT
DTSTART;TZID=America/Phoenix:20230306T113000
DTEND;TZID=America/Phoenix:20230306T130000
DTSTAMP:20260419T184827
CREATED:20230209T175939Z
LAST-MODIFIED:20230209T175939Z
UID:116904-1678102200-1678107600@news.gcu.edu
SUMMARY:CAB Marketing Tabling
DESCRIPTION:
URL:https://news.gcu.edu/event/cab-marketing-tabling/
LOCATION:Prescott Promenade
END:VEVENT
BEGIN:VEVENT
DTSTART;TZID=America/Phoenix:20230320T113000
DTEND;TZID=America/Phoenix:20230320T130000
DTSTAMP:20260419T184827
CREATED:20230209T180701Z
LAST-MODIFIED:20230209T180701Z
UID:116913-1679311800-1679317200@news.gcu.edu
SUMMARY:CAB Marketing Tabling
DESCRIPTION:
URL:https://news.gcu.edu/event/cab-marketing-tabling-2/
LOCATION:Prescott Promenade
END:VEVENT
BEGIN:VEVENT
DTSTART;TZID=America/Phoenix:20230327T113000
DTEND;TZID=America/Phoenix:20230327T130000
DTSTAMP:20260419T184827
CREATED:20230209T180942Z
LAST-MODIFIED:20230209T180942Z
UID:116918-1679916600-1679922000@news.gcu.edu
SUMMARY:CAB Marketing Tabling
DESCRIPTION:
URL:https://news.gcu.edu/event/cab-marketing-tabling-3/
LOCATION:Prescott Promenade
END:VEVENT
BEGIN:VEVENT
DTSTART;TZID=America/Phoenix:20231024T180000
DTEND;TZID=America/Phoenix:20231024T200000
DTSTAMP:20260419T184827
CREATED:20231022T021559Z
LAST-MODIFIED:20231022T021559Z
UID:125849-1698170400-1698177600@news.gcu.edu
SUMMARY:Ghost Cart
DESCRIPTION:
URL:https://news.gcu.edu/event/ghost-cart/
LOCATION:Prescott Promenade
END:VEVENT
BEGIN:VEVENT
DTSTART;TZID=America/Phoenix:20231109T130000
DTEND;TZID=America/Phoenix:20231109T150000
DTSTAMP:20260419T184827
CREATED:20231103T052441Z
LAST-MODIFIED:20231103T052441Z
UID:126539-1699534800-1699542000@news.gcu.edu
SUMMARY:Green Day
DESCRIPTION:
URL:https://news.gcu.edu/event/green-day-2/
LOCATION:Prescott Promenade
END:VEVENT
BEGIN:VEVENT
DTSTART;TZID=America/Phoenix:20240123T120000
DTEND;TZID=America/Phoenix:20240123T140000
DTSTAMP:20260419T184827
CREATED:20240108T211704Z
LAST-MODIFIED:20240108T211704Z
UID:128926-1706011200-1706018400@news.gcu.edu
SUMMARY:ASGCU Mental Health Day
DESCRIPTION:
URL:https://news.gcu.edu/event/asgcu-mental-health-day/
LOCATION:Prescott Promenade
END:VEVENT
END:VCALENDAR