BEGIN:VCALENDAR
VERSION:2.0
PRODID:-//GCU News - ECPv5.14.1//NONSGML v1.0//EN
CALSCALE:GREGORIAN
METHOD:PUBLISH
X-WR-CALNAME:GCU News
X-ORIGINAL-URL:https://news.gcu.edu
X-WR-CALDESC:Events for GCU News
REFRESH-INTERVAL;VALUE=DURATION:PT1H
X-Robots-Tag:noindex
X-PUBLISHED-TTL:PT1H
BEGIN:VTIMEZONE
TZID:America/Phoenix
BEGIN:STANDARD
TZOFFSETFROM:-0700
TZOFFSETTO:-0700
TZNAME:MST
DTSTART:20250101T000000
END:STANDARD
END:VTIMEZONE
BEGIN:VEVENT
DTSTART;TZID=America/Phoenix:20251020T120000
DTEND;TZID=America/Phoenix:20251020T140000
DTSTAMP:20260419T184825
CREATED:20250904T232124Z
LAST-MODIFIED:20250904T232124Z
UID:156388-1760961600-1760968800@news.gcu.edu
SUMMARY:Meet Internships Monday
DESCRIPTION:
URL:https://news.gcu.edu/event/meet-internships-monday/
LOCATION:Prescott Field
END:VEVENT
BEGIN:VEVENT
DTSTART;TZID=America/Phoenix:20251021T160000
DTEND;TZID=America/Phoenix:20251021T180000
DTSTAMP:20260419T184825
CREATED:20250904T232234Z
LAST-MODIFIED:20250904T232234Z
UID:156390-1761062400-1761069600@news.gcu.edu
SUMMARY:Emerging Leaders Career Fair
DESCRIPTION:
URL:https://news.gcu.edu/event/emerging-leaders-career-fair-2/
LOCATION:Prescott Field
END:VEVENT
BEGIN:VEVENT
DTSTART;TZID=America/Phoenix:20251117T180000
DTEND;TZID=America/Phoenix:20251117T210000
DTSTAMP:20260419T184825
CREATED:20251115T071244Z
LAST-MODIFIED:20251115T071244Z
UID:160625-1763402400-1763413200@news.gcu.edu
SUMMARY:Student Market
DESCRIPTION:Presented by Canyon Activities Board
URL:https://news.gcu.edu/event/student-market-9/
LOCATION:Prescott Field
ATTACH;FMTTYPE=image/jpeg:https://news.gcu.edu/app/uploads/2023/08/WelcomeWeek-FirstMonday-rf-082823-007.jpg
END:VEVENT
BEGIN:VEVENT
DTSTART;TZID=America/Phoenix:20251119T190000
DTEND;TZID=America/Phoenix:20251119T210000
DTSTAMP:20260419T184826
CREATED:20251115T072631Z
LAST-MODIFIED:20251115T072631Z
UID:160643-1763578800-1763586000@news.gcu.edu
SUMMARY:Snow Much Fun
DESCRIPTION:
URL:https://news.gcu.edu/event/snow-much-fun-4/
LOCATION:Prescott Field
ATTACH;FMTTYPE=image/jpeg:https://news.gcu.edu/app/uploads/2024/12/SnowMuchFun-rf-120524-020.jpg
END:VEVENT
BEGIN:VEVENT
DTSTART;TZID=America/Phoenix:20260112T183000
DTEND;TZID=America/Phoenix:20260112T210000
DTSTAMP:20260419T184826
CREATED:20260105T222500Z
LAST-MODIFIED:20260105T222500Z
UID:162460-1768242600-1768251600@news.gcu.edu
SUMMARY:Student Market
DESCRIPTION:
URL:https://news.gcu.edu/event/student-market-10/
LOCATION:Prescott Field
ATTACH;FMTTYPE=image/jpeg:https://news.gcu.edu/app/uploads/2024/08/WelcomeWeek-Monday-rf-082624-037.jpg
END:VEVENT
BEGIN:VEVENT
DTSTART;TZID=America/Phoenix:20260114T190000
DTEND;TZID=America/Phoenix:20260114T210000
DTSTAMP:20260419T184826
CREATED:20260105T222845Z
LAST-MODIFIED:20260105T222845Z
UID:162464-1768417200-1768424400@news.gcu.edu
SUMMARY:Jeanuary Country Lopes
DESCRIPTION:
URL:https://news.gcu.edu/event/jeanuary-country-lopes/
LOCATION:Prescott Field
ATTACH;FMTTYPE=image/jpeg:https://news.gcu.edu/app/uploads/2023/10/CountryLopes-CAB-rf-100523-002.jpg
END:VEVENT
BEGIN:VEVENT
DTSTART;TZID=America/Phoenix:20260126T183000
DTEND;TZID=America/Phoenix:20260126T210000
DTSTAMP:20260419T184826
CREATED:20260105T230611Z
LAST-MODIFIED:20260105T230611Z
UID:162478-1769452200-1769461200@news.gcu.edu
SUMMARY:Student Market
DESCRIPTION:
URL:https://news.gcu.edu/event/student-market-11/
LOCATION:Prescott Field
ATTACH;FMTTYPE=image/jpeg:https://news.gcu.edu/app/uploads/2023/08/WelcomeWeek-FirstMonday-rf-082823-003.jpg
END:VEVENT
BEGIN:VEVENT
DTSTART;TZID=America/Phoenix:20260209T183000
DTEND;TZID=America/Phoenix:20260209T210000
DTSTAMP:20260419T184826
CREATED:20260114T232403Z
LAST-MODIFIED:20260114T232403Z
UID:163130-1770661800-1770670800@news.gcu.edu
SUMMARY:Student Market
DESCRIPTION:
URL:https://news.gcu.edu/event/student-market-12/
LOCATION:Prescott Field
ATTACH;FMTTYPE=image/jpeg:https://news.gcu.edu/app/uploads/2023/08/WelcomeWeek-FirstMonday-rf-082823-007.jpg
END:VEVENT
BEGIN:VEVENT
DTSTART;TZID=America/Phoenix:20260212T160000
DTEND;TZID=America/Phoenix:20260212T180000
DTSTAMP:20260419T184826
CREATED:20260112T173837Z
LAST-MODIFIED:20260112T173837Z
UID:162819-1770912000-1770919200@news.gcu.edu
SUMMARY:Health and Medical Career Fair
DESCRIPTION:
URL:https://news.gcu.edu/event/health-and-medical-career-fair-2/
LOCATION:Prescott Field
ATTACH;FMTTYPE=image/jpeg:https://news.gcu.edu/app/uploads/2023/02/SchoolDistricts-JobFair-rf-021523-004.jpg
END:VEVENT
BEGIN:VEVENT
DTSTART;TZID=America/Phoenix:20260223T183000
DTEND;TZID=America/Phoenix:20260223T210000
DTSTAMP:20260419T184826
CREATED:20260220T201843Z
LAST-MODIFIED:20260220T201843Z
UID:164363-1771871400-1771880400@news.gcu.edu
SUMMARY:Hot Wheels Student Market
DESCRIPTION:
URL:https://news.gcu.edu/event/hot-wheels-student-market/
LOCATION:Prescott Field
ATTACH;FMTTYPE=image/jpeg:https://news.gcu.edu/app/uploads/2024/08/WelcomeWeek-Monday-rf-082624-037.jpg
END:VEVENT
BEGIN:VEVENT
DTSTART;TZID=America/Phoenix:20260303T160000
DTEND;TZID=America/Phoenix:20260303T180000
DTSTAMP:20260419T184826
CREATED:20260112T195310Z
LAST-MODIFIED:20260112T195310Z
UID:162836-1772553600-1772560800@news.gcu.edu
SUMMARY:Emerging Leaders Career Fair
DESCRIPTION:
URL:https://news.gcu.edu/event/emerging-leaders-career-fair-3/
LOCATION:Prescott Field
ATTACH;FMTTYPE=image/jpeg:https://news.gcu.edu/app/uploads/2024/09/EngineeringTechnology-CareerFair-rf-092424-004.jpg
END:VEVENT
BEGIN:VEVENT
DTSTART;TZID=America/Phoenix:20260305T140000
DTEND;TZID=America/Phoenix:20260305T160000
DTSTAMP:20260419T184826
CREATED:20260130T172722Z
LAST-MODIFIED:20260130T172722Z
UID:163608-1772719200-1772726400@news.gcu.edu
SUMMARY:Lopes Leap to Teach
DESCRIPTION:
URL:https://news.gcu.edu/event/lopes-leap-to-teach/
LOCATION:Prescott Field
ATTACH;FMTTYPE=image/jpeg:https://news.gcu.edu/app/uploads/2021/11/LeapToTeach-rf-111621-004-2.jpg
END:VEVENT
BEGIN:VEVENT
DTSTART;TZID=America/Phoenix:20260326T190000
DTEND;TZID=America/Phoenix:20260326T210000
DTSTAMP:20260419T184826
CREATED:20260316T225545Z
LAST-MODIFIED:20260316T225545Z
UID:165377-1774551600-1774558800@news.gcu.edu
SUMMARY:Inflate-a-fun
DESCRIPTION:
URL:https://news.gcu.edu/event/inflate-a-fun/
LOCATION:Prescott Field
ATTACH;FMTTYPE=image/jpeg:https://news.gcu.edu/app/uploads/2024/12/MidnightBreakfast-rf-120424-008.jpg
END:VEVENT
BEGIN:VEVENT
DTSTART;TZID=America/Phoenix:20260406T183000
DTEND;TZID=America/Phoenix:20260406T210000
DTSTAMP:20260419T184826
CREATED:20260330T231318Z
LAST-MODIFIED:20260330T231318Z
UID:166017-1775500200-1775509200@news.gcu.edu
SUMMARY:Student Market
DESCRIPTION:
URL:https://news.gcu.edu/event/student-market-13/
LOCATION:Prescott Field
ATTACH;FMTTYPE=image/jpeg:https://news.gcu.edu/app/uploads/2024/11/Marketplace-Kate-Hames-rf-110123-004.jpg
END:VEVENT
BEGIN:VEVENT
DTSTART;TZID=America/Phoenix:20260408T190000
DTEND;TZID=America/Phoenix:20260408T220000
DTSTAMP:20260419T184826
CREATED:20260330T233154Z
LAST-MODIFIED:20260330T233154Z
UID:166023-1775674800-1775685600@news.gcu.edu
SUMMARY:Ninja Nation
DESCRIPTION:
URL:https://news.gcu.edu/event/ninja-nation/
LOCATION:Prescott Field
ATTACH;FMTTYPE=image/jpeg:https://news.gcu.edu/app/uploads/2024/04/Lopes-NinjaWarrior-rf-041124-016.jpg
END:VEVENT
END:VCALENDAR