BEGIN:VCALENDAR
VERSION:2.0
PRODID:-//GCU News - ECPv5.14.1//NONSGML v1.0//EN
CALSCALE:GREGORIAN
METHOD:PUBLISH
X-WR-CALNAME:GCU News
X-ORIGINAL-URL:https://news.gcu.edu
X-WR-CALDESC:Events for GCU News
REFRESH-INTERVAL;VALUE=DURATION:PT1H
X-Robots-Tag:noindex
X-PUBLISHED-TTL:PT1H
BEGIN:VTIMEZONE
TZID:America/Phoenix
BEGIN:STANDARD
TZOFFSETFROM:-0700
TZOFFSETTO:-0700
TZNAME:MST
DTSTART:20240101T000000
END:STANDARD
END:VTIMEZONE
BEGIN:VEVENT
DTSTART;TZID=America/Phoenix:20240827T190000
DTEND;TZID=America/Phoenix:20240827T220000
DTSTAMP:20260419T141009
CREATED:20240813T003128Z
LAST-MODIFIED:20240813T003502Z
UID:137590-1724785200-1724796000@news.gcu.edu
SUMMARY:Project L
DESCRIPTION:
URL:https://news.gcu.edu/event/project-l-3/
LOCATION:Prescott Field
ATTACH;FMTTYPE=image/jpeg:https://news.gcu.edu/app/uploads/2023/08/WelcomeWeek-ProjectL-rf-082923-010.jpg
END:VEVENT
BEGIN:VEVENT
DTSTART;TZID=America/Phoenix:20240830T060000
DTEND;TZID=America/Phoenix:20240830T060000
DTSTAMP:20260419T141009
CREATED:20240813T004623Z
LAST-MODIFIED:20240813T004623Z
UID:137606-1724997600-1724997600@news.gcu.edu
SUMMARY:Sunrise Yoga
DESCRIPTION:
URL:https://news.gcu.edu/event/sunrise-yoga-2/
LOCATION:Prescott Field
END:VEVENT
BEGIN:VEVENT
DTSTART;TZID=America/Phoenix:20240831T183000
DTEND;TZID=America/Phoenix:20240831T183000
DTSTAMP:20260419T141009
CREATED:20240813T005241Z
LAST-MODIFIED:20240813T005241Z
UID:137613-1725129000-1725129000@news.gcu.edu
SUMMARY:American Swing Kids Dance Night
DESCRIPTION:
URL:https://news.gcu.edu/event/american-swing-kids-dance-night/
LOCATION:Prescott Field
ATTACH;FMTTYPE=image/jpeg:https://news.gcu.edu/app/uploads/2024/03/AmericanKids-CountrySwingDance-rf-022624-001-1.jpg
END:VEVENT
BEGIN:VEVENT
DTSTART;TZID=America/Phoenix:20240916T190000
DTEND;TZID=America/Phoenix:20240916T210000
DTSTAMP:20260419T141009
CREATED:20240821T170149Z
LAST-MODIFIED:20240821T170149Z
UID:138001-1726513200-1726520400@news.gcu.edu
SUMMARY:Lopes Fair
DESCRIPTION:
URL:https://news.gcu.edu/event/lopes-fair/
LOCATION:Prescott Field
ATTACH;FMTTYPE=image/jpeg:https://news.gcu.edu/app/uploads/2023/09/FairwellToSummer-CAB-rf-092823-004.jpg
END:VEVENT
BEGIN:VEVENT
DTSTART;TZID=America/Phoenix:20240918T180000
DTEND;TZID=America/Phoenix:20240918T210000
DTSTAMP:20260419T141009
CREATED:20240820T233014Z
LAST-MODIFIED:20240821T220302Z
UID:137933-1726682400-1726693200@news.gcu.edu
SUMMARY:Hispanic Heritage Celebration
DESCRIPTION:Presented by the Multicultural Office
URL:https://news.gcu.edu/event/hispanic-heritage-celebration/
LOCATION:Prescott Field
ATTACH;FMTTYPE=image/jpeg:https://news.gcu.edu/app/uploads/2023/09/HispanicHeritage-Celebration-rf-091923-023-1.jpg
END:VEVENT
BEGIN:VEVENT
DTSTART;TZID=America/Phoenix:20241003T190000
DTEND;TZID=America/Phoenix:20241003T210000
DTSTAMP:20260419T141009
CREATED:20240821T203849Z
LAST-MODIFIED:20240821T203849Z
UID:138107-1727982000-1727989200@news.gcu.edu
SUMMARY:Country Lopes
DESCRIPTION:
URL:https://news.gcu.edu/event/country-lopes-2/
LOCATION:Prescott Field
ATTACH;FMTTYPE=image/jpeg:https://news.gcu.edu/app/uploads/2023/10/CountryLopes-CAB-rf-100523-002.jpg
END:VEVENT
BEGIN:VEVENT
DTSTART;TZID=America/Phoenix:20241009T190000
DTEND;TZID=America/Phoenix:20241009T210000
DTSTAMP:20260419T141009
CREATED:20240821T205547Z
LAST-MODIFIED:20240821T205547Z
UID:138122-1728500400-1728507600@news.gcu.edu
SUMMARY:Fall Festival
DESCRIPTION:
URL:https://news.gcu.edu/event/fall-festival-2/
LOCATION:Prescott Field
ATTACH;FMTTYPE=image/jpeg:https://news.gcu.edu/app/uploads/2023/11/FallFestival-rf-110923-001.jpg
END:VEVENT
BEGIN:VEVENT
DTSTART;TZID=America/Phoenix:20241012T090000
DTEND;TZID=America/Phoenix:20241012T120000
DTSTAMP:20260419T141009
CREATED:20240821T211522Z
LAST-MODIFIED:20240821T211522Z
UID:138131-1728723600-1728734400@news.gcu.edu
SUMMARY:Student Market
DESCRIPTION:
URL:https://news.gcu.edu/event/student-market-5/
LOCATION:Prescott Field
ATTACH;FMTTYPE=image/jpeg:https://news.gcu.edu/app/uploads/2023/08/WelcomeWeek-FirstMonday-rf-082823-003.jpg
END:VEVENT
BEGIN:VEVENT
DTSTART;TZID=America/Phoenix:20241113T170000
DTEND;TZID=America/Phoenix:20241113T190000
DTSTAMP:20260419T141009
CREATED:20241111T194638Z
LAST-MODIFIED:20241111T194638Z
UID:142822-1731517200-1731524400@news.gcu.edu
SUMMARY:Grateful Gathering
DESCRIPTION:ASGCU event
URL:https://news.gcu.edu/event/grateful-gathering/
LOCATION:Prescott Field
END:VEVENT
BEGIN:VEVENT
DTSTART;TZID=America/Phoenix:20241118T190000
DTEND;TZID=America/Phoenix:20241118T210000
DTSTAMP:20260419T141009
CREATED:20241111T204646Z
LAST-MODIFIED:20241115T145728Z
UID:142839-1731956400-1731963600@news.gcu.edu
SUMMARY:Sweater Weather Student Market
DESCRIPTION:CAB event
URL:https://news.gcu.edu/event/sweater-weather-student-market/
LOCATION:Prescott Field
ATTACH;FMTTYPE=image/jpeg:https://news.gcu.edu/app/uploads/2023/11/HangingOfGreens-rf-112823-004.jpg
END:VEVENT
BEGIN:VEVENT
DTSTART;TZID=America/Phoenix:20241120T120000
DTEND;TZID=America/Phoenix:20241120T140000
DTSTAMP:20260419T141009
CREATED:20241115T144541Z
LAST-MODIFIED:20241115T144541Z
UID:143185-1732104000-1732111200@news.gcu.edu
SUMMARY:Behavioral Health and Human Services Career Fair
DESCRIPTION:
URL:https://news.gcu.edu/event/behavioral-health-and-human-services-career-fair/
LOCATION:Prescott Field
END:VEVENT
BEGIN:VEVENT
DTSTART;TZID=America/Phoenix:20241121T190000
DTEND;TZID=America/Phoenix:20241121T210000
DTSTAMP:20260419T141009
CREATED:20241111T205353Z
LAST-MODIFIED:20241115T145946Z
UID:142844-1732215600-1732222800@news.gcu.edu
SUMMARY:Country Lopes
DESCRIPTION:CAB event
URL:https://news.gcu.edu/event/country-lopes-3/
LOCATION:Prescott Field
ATTACH;FMTTYPE=image/jpeg:https://news.gcu.edu/app/uploads/2024/10/CountryLopes-rf-100324-011.jpg
END:VEVENT
BEGIN:VEVENT
DTSTART;TZID=America/Phoenix:20241202T183000
DTEND;TZID=America/Phoenix:20241202T210000
DTSTAMP:20260419T141009
CREATED:20241126T204759Z
LAST-MODIFIED:20241126T204759Z
UID:143671-1733164200-1733173200@news.gcu.edu
SUMMARY:Hanging of the Greens Student Market
DESCRIPTION:
URL:https://news.gcu.edu/event/hanging-of-the-greens-student-market/
LOCATION:Prescott Field
ATTACH;FMTTYPE=image/jpeg:https://news.gcu.edu/app/uploads/2023/11/HangingOfGreens-rf-112823-004.jpg
END:VEVENT
BEGIN:VEVENT
DTSTART;TZID=America/Phoenix:20241204T210000
DTEND;TZID=America/Phoenix:20241204T210000
DTSTAMP:20260419T141009
CREATED:20241126T205220Z
LAST-MODIFIED:20241126T224925Z
UID:143673-1733346000-1733346000@news.gcu.edu
SUMMARY:Midnight Breakfast
DESCRIPTION:
URL:https://news.gcu.edu/event/midnight-breakfast-2/
LOCATION:Prescott Field
ATTACH;FMTTYPE=image/jpeg:https://news.gcu.edu/app/uploads/2024/04/MidnightBreakfast-rf-041724-009.jpg
END:VEVENT
BEGIN:VEVENT
DTSTART;TZID=America/Phoenix:20250113T190000
DTEND;TZID=America/Phoenix:20250113T213000
DTSTAMP:20260419T141009
CREATED:20250106T185719Z
LAST-MODIFIED:20250106T185719Z
UID:144789-1736794800-1736803800@news.gcu.edu
SUMMARY:New Views Student Market
DESCRIPTION:CAB
URL:https://news.gcu.edu/event/new-views-student-market/
LOCATION:Prescott Field
ATTACH;FMTTYPE=image/jpeg:https://news.gcu.edu/app/uploads/2021/12/StudentMarket-rf-113021-008-2.jpg
END:VEVENT
BEGIN:VEVENT
DTSTART;TZID=America/Phoenix:20250113T190000
DTEND;TZID=America/Phoenix:20250113T213000
DTSTAMP:20260419T141009
CREATED:20241228T010815Z
LAST-MODIFIED:20241228T010815Z
UID:144558-1736794800-1736803800@news.gcu.edu
SUMMARY:Student Market
DESCRIPTION:
URL:https://news.gcu.edu/event/student-market-7/
LOCATION:Prescott Field
ATTACH;FMTTYPE=image/jpeg:https://news.gcu.edu/app/uploads/2024/08/WelcomeWeek-Monday-rf-082624-037.jpg
END:VEVENT
BEGIN:VEVENT
DTSTART;TZID=America/Phoenix:20250116T190000
DTEND;TZID=America/Phoenix:20250116T210000
DTSTAMP:20260419T141010
CREATED:20241228T011522Z
LAST-MODIFIED:20241228T011522Z
UID:144571-1737054000-1737061200@news.gcu.edu
SUMMARY:Country Lopes
DESCRIPTION:
URL:https://news.gcu.edu/event/country-lopes-4/
LOCATION:Prescott Field
END:VEVENT
BEGIN:VEVENT
DTSTART;TZID=America/Phoenix:20250129T120000
DTEND;TZID=America/Phoenix:20250129T140000
DTSTAMP:20260419T141010
CREATED:20250109T165430Z
LAST-MODIFIED:20250123T230120Z
UID:145060-1738152000-1738159200@news.gcu.edu
SUMMARY:Law Enforcement Job Fair
DESCRIPTION:Students will have the opportunity to engage with local\, state\, and federal law enforcement agencies.
URL:https://news.gcu.edu/event/law-enforcement-fair-2/
LOCATION:Prescott Field
END:VEVENT
BEGIN:VEVENT
DTSTART;TZID=America/Phoenix:20250210T190000
DTEND;TZID=America/Phoenix:20250210T190000
DTSTAMP:20260419T141010
CREATED:20250203T181256Z
LAST-MODIFIED:20250203T181256Z
UID:146184-1739214000-1739214000@news.gcu.edu
SUMMARY:Love in Bloom: Student Market
DESCRIPTION:
URL:https://news.gcu.edu/event/love-in-bloom-student-market/
LOCATION:Prescott Field
END:VEVENT
BEGIN:VEVENT
DTSTART;TZID=America/Phoenix:20250220T173000
DTEND;TZID=America/Phoenix:20250220T193000
DTSTAMP:20260419T141010
CREATED:20241228T001306Z
LAST-MODIFIED:20241228T001306Z
UID:144511-1740072600-1740079800@news.gcu.edu
SUMMARY:Emerging Leaders Career Fair
DESCRIPTION:Career Services and Honors College partner for this event for anyone with a student leadership position on campus.
URL:https://news.gcu.edu/event/emerging-leaders-career-fair/
LOCATION:Prescott Field
END:VEVENT
BEGIN:VEVENT
DTSTART;TZID=America/Phoenix:20250224T190000
DTEND;TZID=America/Phoenix:20250224T190000
DTSTAMP:20260419T141010
CREATED:20250203T181634Z
LAST-MODIFIED:20250203T181634Z
UID:146189-1740423600-1740423600@news.gcu.edu
SUMMARY:The Retro Collective: Student Market
DESCRIPTION:
URL:https://news.gcu.edu/event/the-retro-collective-student-market/
LOCATION:Prescott Field
END:VEVENT
BEGIN:VEVENT
DTSTART;TZID=America/Phoenix:20250226T210000
DTEND;TZID=America/Phoenix:20250226T210000
DTSTAMP:20260419T141010
CREATED:20250226T202424Z
LAST-MODIFIED:20250226T202424Z
UID:147626-1740603600-1740603600@news.gcu.edu
SUMMARY:Midnight Breakfast
DESCRIPTION:Join us for Malibu Barbie Midnight Breakfast: GCU Stampedes and free food! You will not want to miss activities such as; bouncy houses\, obstacle courses\, and dancing all night to the DJ!
URL:https://news.gcu.edu/event/midnight-breakfast-3/
LOCATION:Prescott Field
END:VEVENT
BEGIN:VEVENT
DTSTART;TZID=America/Phoenix:20250320T190000
DTEND;TZID=America/Phoenix:20250320T210000
DTSTAMP:20260419T141010
CREATED:20250303T192030Z
LAST-MODIFIED:20250303T192148Z
UID:147903-1742497200-1742504400@news.gcu.edu
SUMMARY:Country Lopes
DESCRIPTION:
URL:https://news.gcu.edu/event/country-lopes-5/
LOCATION:Prescott Field
END:VEVENT
BEGIN:VEVENT
DTSTART;TZID=America/Phoenix:20250324T190000
DTEND;TZID=America/Phoenix:20250324T213000
DTSTAMP:20260419T141010
CREATED:20250224T172445Z
LAST-MODIFIED:20250321T133319Z
UID:147288-1742842800-1742851800@news.gcu.edu
SUMMARY:Market Madness Student Market
DESCRIPTION:Shop for various items\, including jewelry\, home décor\, clothing\, vintage treasures and delicious locally-made treats. While supporting student businesses and connecting with the entrepreneurs.
URL:https://news.gcu.edu/event/market-madness-student-market/
LOCATION:Prescott Field
ATTACH;FMTTYPE=image/jpeg:https://news.gcu.edu/app/uploads/2024/11/Marketplace-Kate-Hames-rf-110123-004.jpg
END:VEVENT
BEGIN:VEVENT
DTSTART;TZID=America/Phoenix:20250409T190000
DTEND;TZID=America/Phoenix:20250409T190000
DTSTAMP:20260419T141010
CREATED:20250408T231906Z
LAST-MODIFIED:20250408T231906Z
UID:149698-1744225200-1744225200@news.gcu.edu
SUMMARY:Ninja Warrior
DESCRIPTION:
URL:https://news.gcu.edu/event/ninja-warrior/
LOCATION:Prescott Field
ATTACH;FMTTYPE=image/jpeg:https://news.gcu.edu/app/uploads/2024/04/Lopes-NinjaWarrior-rf-041124-013.jpg
END:VEVENT
BEGIN:VEVENT
DTSTART;TZID=America/Phoenix:20250416T210000
DTEND;TZID=America/Phoenix:20250416T210000
DTSTAMP:20260419T141010
CREATED:20250402T222650Z
LAST-MODIFIED:20250402T222650Z
UID:149224-1744837200-1744837200@news.gcu.edu
SUMMARY:Midnight Breakfast
DESCRIPTION:
URL:https://news.gcu.edu/event/midnight-breakfast-4/
LOCATION:Prescott Field
ATTACH;FMTTYPE=image/jpeg:https://news.gcu.edu/app/uploads/2023/12/MidnightBreakfast-rf-120623-006.jpg
END:VEVENT
BEGIN:VEVENT
DTSTART;VALUE=DATE:20250825
DTEND;VALUE=DATE:20250828
DTSTAMP:20260419T141010
CREATED:20250805T174653Z
LAST-MODIFIED:20250805T175114Z
UID:154691-1756080000-1756339199@news.gcu.edu
SUMMARY:Prayer Fence
DESCRIPTION:
URL:https://news.gcu.edu/event/prayer-fence/
LOCATION:Prescott Field
ATTACH;FMTTYPE=image/jpeg:https://news.gcu.edu/app/uploads/2024/08/SpiritualLife-FaithInFirstYear-rf-082724-008.jpg
END:VEVENT
BEGIN:VEVENT
DTSTART;TZID=America/Phoenix:20250825T100000
DTEND;TZID=America/Phoenix:20250825T130000
DTSTAMP:20260419T141010
CREATED:20250805T175358Z
LAST-MODIFIED:20250805T233058Z
UID:154696-1756116000-1756126800@news.gcu.edu
SUMMARY:Coffee with the Parent Council
DESCRIPTION:
URL:https://news.gcu.edu/event/coffee-with-the-parent-council/2025-08-25/
LOCATION:Prescott Field
ATTACH;FMTTYPE=image/jpeg:https://news.gcu.edu/app/uploads/2016/09/GCBC-Coffee-072716.014.jpg
END:VEVENT
BEGIN:VEVENT
DTSTART;TZID=America/Phoenix:20250825T200000
DTEND;TZID=America/Phoenix:20250825T220000
DTSTAMP:20260419T141010
CREATED:20250805T181021Z
LAST-MODIFIED:20250805T181021Z
UID:154705-1756152000-1756159200@news.gcu.edu
SUMMARY:Cabanarama
DESCRIPTION:
URL:https://news.gcu.edu/event/cabanarama/
LOCATION:Prescott Field
ATTACH;FMTTYPE=image/jpeg:https://news.gcu.edu/app/uploads/2025/03/GCUsGotTalent-rf-030425-050.jpg
END:VEVENT
BEGIN:VEVENT
DTSTART;TZID=America/Phoenix:20250826T100000
DTEND;TZID=America/Phoenix:20250826T130000
DTSTAMP:20260419T141010
CREATED:20250805T175358Z
LAST-MODIFIED:20250805T175358Z
UID:154787-1756202400-1756213200@news.gcu.edu
SUMMARY:Coffee with the Parent Council
DESCRIPTION:
URL:https://news.gcu.edu/event/coffee-with-the-parent-council/2025-08-26/
LOCATION:Prescott Field
ATTACH;FMTTYPE=image/jpeg:https://news.gcu.edu/app/uploads/2016/09/GCBC-Coffee-072716.014.jpg
END:VEVENT
END:VCALENDAR