BEGIN:VCALENDAR
VERSION:2.0
PRODID:-//GCU News - ECPv5.14.1//NONSGML v1.0//EN
CALSCALE:GREGORIAN
METHOD:PUBLISH
X-WR-CALNAME:GCU News
X-ORIGINAL-URL:https://news.gcu.edu
X-WR-CALDESC:Events for GCU News
REFRESH-INTERVAL;VALUE=DURATION:PT1H
X-Robots-Tag:noindex
X-PUBLISHED-TTL:PT1H
BEGIN:VTIMEZONE
TZID:America/Phoenix
BEGIN:STANDARD
TZOFFSETFROM:-0700
TZOFFSETTO:-0700
TZNAME:MST
DTSTART:20230101T000000
END:STANDARD
END:VTIMEZONE
BEGIN:VEVENT
DTSTART;TZID=America/Phoenix:20230124T170000
DTEND;TZID=America/Phoenix:20230124T190000
DTSTAMP:20260419T092019
CREATED:20230113T175308Z
LAST-MODIFIED:20230113T175648Z
UID:115858-1674579600-1674586800@news.gcu.edu
SUMMARY:C.A.B Lunar New Year
DESCRIPTION:
URL:https://news.gcu.edu/event/cab-lunar-new-year/
LOCATION:Prescott Field
END:VEVENT
BEGIN:VEVENT
DTSTART;TZID=America/Phoenix:20230228T180000
DTEND;TZID=America/Phoenix:20230228T200000
DTSTAMP:20260419T092019
CREATED:20230209T174608Z
LAST-MODIFIED:20230209T174608Z
UID:116892-1677607200-1677614400@news.gcu.edu
SUMMARY:Culture week event: Carnival
DESCRIPTION:Day 2
URL:https://news.gcu.edu/event/culture-week-event-carnival/
LOCATION:Prescott Field
END:VEVENT
BEGIN:VEVENT
DTSTART;TZID=America/Phoenix:20230419T213000
DTEND;TZID=America/Phoenix:20230419T213000
DTSTAMP:20260419T092019
CREATED:20230214T182558Z
LAST-MODIFIED:20230214T182558Z
UID:117132-1681939800-1681939800@news.gcu.edu
SUMMARY:Midnight Breakfast
DESCRIPTION:From 9:30p.m.-midnight.
URL:https://news.gcu.edu/event/midnight-breakfast/
LOCATION:Prescott Field
END:VEVENT
BEGIN:VEVENT
DTSTART;TZID=America/Phoenix:20230828T200000
DTEND;TZID=America/Phoenix:20230828T220000
DTSTAMP:20260419T092019
CREATED:20230819T010158Z
LAST-MODIFIED:20230819T010158Z
UID:122585-1693252800-1693260000@news.gcu.edu
SUMMARY:Canyon Activities Board's First Monday
DESCRIPTION:
URL:https://news.gcu.edu/event/canyon-activities-boards-first-monday/
LOCATION:Prescott Field
ATTACH;FMTTYPE=image/jpeg:https://news.gcu.edu/app/uploads/2022/08/First-Monday-ZB-82922-021.jpg
END:VEVENT
BEGIN:VEVENT
DTSTART;TZID=America/Phoenix:20230829T190000
DTEND;TZID=America/Phoenix:20230829T220000
DTSTAMP:20260419T092019
CREATED:20230818T233408Z
LAST-MODIFIED:20230818T233408Z
UID:122499-1693335600-1693346400@news.gcu.edu
SUMMARY:Project L
DESCRIPTION:
URL:https://news.gcu.edu/event/project-l-2/
LOCATION:Prescott Field
ATTACH;FMTTYPE=image/jpeg:https://news.gcu.edu/app/uploads/2023/01/ProjectL-rf-011723-002.jpg
END:VEVENT
BEGIN:VEVENT
DTSTART;TZID=America/Phoenix:20230901T063000
DTEND;TZID=America/Phoenix:20230901T090000
DTSTAMP:20260419T092019
CREATED:20230819T003018Z
LAST-MODIFIED:20230819T003041Z
UID:122542-1693549800-1693558800@news.gcu.edu
SUMMARY:Sunrise Yoga
DESCRIPTION:
URL:https://news.gcu.edu/event/sunset-yoga/
LOCATION:Prescott Field
ATTACH;FMTTYPE=image/jpeg:https://news.gcu.edu/app/uploads/2013/03/Yoga-3-ALL-MOVED.jpg
END:VEVENT
BEGIN:VEVENT
DTSTART;TZID=America/Phoenix:20231109T190000
DTEND;TZID=America/Phoenix:20231109T220000
DTSTAMP:20260419T092019
CREATED:20231103T052716Z
LAST-MODIFIED:20231103T052716Z
UID:126541-1699556400-1699567200@news.gcu.edu
SUMMARY:Fall Festival
DESCRIPTION:
URL:https://news.gcu.edu/event/fall-festival/
LOCATION:Prescott Field
END:VEVENT
BEGIN:VEVENT
DTSTART;TZID=America/Phoenix:20231113T103000
DTEND;TZID=America/Phoenix:20231113T133000
DTSTAMP:20260419T092019
CREATED:20231108T174117Z
LAST-MODIFIED:20231108T174117Z
UID:126908-1699871400-1699882200@news.gcu.edu
SUMMARY:International Education Week Fair
DESCRIPTION:
URL:https://news.gcu.edu/event/international-education-week-fair-2/
LOCATION:Prescott Field
END:VEVENT
BEGIN:VEVENT
DTSTART;TZID=America/Phoenix:20231114T130000
DTEND;TZID=America/Phoenix:20231114T180000
DTSTAMP:20260419T092019
CREATED:20231108T174209Z
LAST-MODIFIED:20231108T174209Z
UID:126910-1699966800-1699984800@news.gcu.edu
SUMMARY:ASCI Job Fair
DESCRIPTION:
URL:https://news.gcu.edu/event/asci-job-fair/
LOCATION:Prescott Field
END:VEVENT
BEGIN:VEVENT
DTSTART;TZID=America/Phoenix:20231114T140000
DTEND;TZID=America/Phoenix:20231114T160000
DTSTAMP:20260419T092019
CREATED:20231108T174259Z
LAST-MODIFIED:20231108T174259Z
UID:126912-1699970400-1699977600@news.gcu.edu
SUMMARY:Lopes Leap to Teach and Lead
DESCRIPTION:
URL:https://news.gcu.edu/event/lopes-leap-to-teach-and-lead-2/
LOCATION:Prescott Field
END:VEVENT
BEGIN:VEVENT
DTSTART;TZID=America/Phoenix:20231116T180000
DTEND;TZID=America/Phoenix:20231116T200000
DTSTAMP:20260419T092019
CREATED:20231103T053515Z
LAST-MODIFIED:20231103T053515Z
UID:126551-1700157600-1700164800@news.gcu.edu
SUMMARY:International Student Panel
DESCRIPTION:
URL:https://news.gcu.edu/event/international-student-panel/
LOCATION:Prescott Field
END:VEVENT
BEGIN:VEVENT
DTSTART;TZID=America/Phoenix:20231130T120000
DTEND;TZID=America/Phoenix:20231130T140000
DTSTAMP:20260419T092019
CREATED:20231108T180451Z
LAST-MODIFIED:20231108T180451Z
UID:126941-1701345600-1701352800@news.gcu.edu
SUMMARY:Behavioral Health and Human Services Fair
DESCRIPTION:
URL:https://news.gcu.edu/event/behavioral-health-and-human-services-fair/
LOCATION:Prescott Field
END:VEVENT
BEGIN:VEVENT
DTSTART;TZID=America/Phoenix:20240108T170000
DTEND;TZID=America/Phoenix:20240108T190000
DTSTAMP:20260419T092019
CREATED:20240104T203901Z
LAST-MODIFIED:20240104T203901Z
UID:128882-1704733200-1704740400@news.gcu.edu
SUMMARY:Spring Club and Community Fair
DESCRIPTION:
URL:https://news.gcu.edu/event/spring-club-and-community-fair/
LOCATION:Prescott Field
ATTACH;FMTTYPE=image/jpeg:https://news.gcu.edu/app/uploads/2022/09/ClubCommunityFair-rf-090722-005.jpg
END:VEVENT
BEGIN:VEVENT
DTSTART;TZID=America/Phoenix:20240122T190000
DTEND;TZID=America/Phoenix:20240122T210000
DTSTAMP:20260419T092019
CREATED:20240116T173821Z
LAST-MODIFIED:20240116T173821Z
UID:129553-1705950000-1705957200@news.gcu.edu
SUMMARY:New Year's Market
DESCRIPTION:
URL:https://news.gcu.edu/event/new-years-market/
LOCATION:Prescott Field
END:VEVENT
BEGIN:VEVENT
DTSTART;TZID=America/Phoenix:20240130T140000
DTEND;TZID=America/Phoenix:20240130T160000
DTSTAMP:20260419T092019
CREATED:20240116T172751Z
LAST-MODIFIED:20240116T172751Z
UID:129542-1706623200-1706630400@news.gcu.edu
SUMMARY:Lopes Land (A Job): Career Fairs & Capstone Showcase
DESCRIPTION:COE: Jobs in Education Fair
URL:https://news.gcu.edu/event/lopes-land-a-job-career-fairs-capstone-showcase-3/
LOCATION:Prescott Field
END:VEVENT
BEGIN:VEVENT
DTSTART;TZID=America/Phoenix:20240208T180000
DTEND;TZID=America/Phoenix:20240208T210000
DTSTAMP:20260419T092019
CREATED:20240108T213710Z
LAST-MODIFIED:20240127T023709Z
UID:128944-1707415200-1707426000@news.gcu.edu
SUMMARY:Black History Month event
DESCRIPTION:
URL:https://news.gcu.edu/event/bhm-event/
LOCATION:Prescott Field
END:VEVENT
BEGIN:VEVENT
DTSTART;TZID=America/Phoenix:20240214T160000
DTEND;TZID=America/Phoenix:20240214T190000
DTSTAMP:20260419T092019
CREATED:20240202T163343Z
LAST-MODIFIED:20240202T163343Z
UID:130370-1707926400-1707937200@news.gcu.edu
SUMMARY:Missions Market
DESCRIPTION:
URL:https://news.gcu.edu/event/missions-market/
LOCATION:Prescott Field
END:VEVENT
BEGIN:VEVENT
DTSTART;TZID=America/Phoenix:20240220T200000
DTEND;TZID=America/Phoenix:20240220T220000
DTSTAMP:20260419T092019
CREATED:20240127T024824Z
LAST-MODIFIED:20240214T212909Z
UID:130026-1708459200-1708466400@news.gcu.edu
SUMMARY:Raiders of the Market
DESCRIPTION:A student market hosted by CAB
URL:https://news.gcu.edu/event/cab-student-market/
LOCATION:Prescott Field
ATTACH;FMTTYPE=image/jpeg:https://news.gcu.edu/app/uploads/2022/03/StudentMarket-rf-032922-004-1.jpg
END:VEVENT
BEGIN:VEVENT
DTSTART;TZID=America/Phoenix:20240318T190000
DTEND;TZID=America/Phoenix:20240318T210000
DTSTAMP:20260419T092019
CREATED:20240315T185626Z
LAST-MODIFIED:20240315T185626Z
UID:132042-1710788400-1710795600@news.gcu.edu
SUMMARY:Student Market
DESCRIPTION:
URL:https://news.gcu.edu/event/student-market-3/
LOCATION:Prescott Field
END:VEVENT
BEGIN:VEVENT
DTSTART;TZID=America/Phoenix:20240320T190000
DTEND;TZID=America/Phoenix:20240320T220000
DTSTAMP:20260419T092019
CREATED:20240108T215427Z
LAST-MODIFIED:20240108T215427Z
UID:128965-1710961200-1710972000@news.gcu.edu
SUMMARY:Country Lopes
DESCRIPTION:
URL:https://news.gcu.edu/event/country-lopes/
LOCATION:Prescott Field
END:VEVENT
BEGIN:VEVENT
DTSTART;TZID=America/Phoenix:20240326T170000
DTEND;TZID=America/Phoenix:20240326T200000
DTSTAMP:20260419T092019
CREATED:20240108T220157Z
LAST-MODIFIED:20240108T220157Z
UID:128973-1711472400-1711483200@news.gcu.edu
SUMMARY:Field Day
DESCRIPTION:
URL:https://news.gcu.edu/event/field-day/
LOCATION:Prescott Field
END:VEVENT
BEGIN:VEVENT
DTSTART;TZID=America/Phoenix:20240328T190000
DTEND;TZID=America/Phoenix:20240328T210000
DTSTAMP:20260419T092019
CREATED:20240315T190806Z
LAST-MODIFIED:20240315T190806Z
UID:132066-1711652400-1711659600@news.gcu.edu
SUMMARY:FCC Grand Canyon Games
DESCRIPTION:
URL:https://news.gcu.edu/event/fcc-grand-canyon-games/
LOCATION:Prescott Field
END:VEVENT
BEGIN:VEVENT
DTSTART;TZID=America/Phoenix:20240411T190000
DTEND;TZID=America/Phoenix:20240411T220000
DTSTAMP:20260419T092019
CREATED:20240108T221412Z
LAST-MODIFIED:20240108T221412Z
UID:128987-1712862000-1712872800@news.gcu.edu
SUMMARY:Final Nightlife Event
DESCRIPTION:
URL:https://news.gcu.edu/event/final-nightlife-event/
LOCATION:Prescott Field
END:VEVENT
BEGIN:VEVENT
DTSTART;TZID=America/Phoenix:20240826T190000
DTEND;TZID=America/Phoenix:20240826T213000
DTSTAMP:20260419T092019
CREATED:20240813T002728Z
LAST-MODIFIED:20240813T002728Z
UID:137586-1724698800-1724707800@news.gcu.edu
SUMMARY:First Monday
DESCRIPTION:
URL:https://news.gcu.edu/event/first-monday-2/
LOCATION:Prescott Field
ATTACH;FMTTYPE=image/jpeg:https://news.gcu.edu/app/uploads/2023/08/WelcomeWeek-FirstMonday-rf-082823-002.jpg
END:VEVENT
BEGIN:VEVENT
DTSTART;TZID=America/Phoenix:20240827T190000
DTEND;TZID=America/Phoenix:20240827T220000
DTSTAMP:20260419T092019
CREATED:20240813T003128Z
LAST-MODIFIED:20240813T003502Z
UID:137590-1724785200-1724796000@news.gcu.edu
SUMMARY:Project L
DESCRIPTION:
URL:https://news.gcu.edu/event/project-l-3/
LOCATION:Prescott Field
ATTACH;FMTTYPE=image/jpeg:https://news.gcu.edu/app/uploads/2023/08/WelcomeWeek-ProjectL-rf-082923-010.jpg
END:VEVENT
BEGIN:VEVENT
DTSTART;TZID=America/Phoenix:20240830T060000
DTEND;TZID=America/Phoenix:20240830T060000
DTSTAMP:20260419T092019
CREATED:20240813T004623Z
LAST-MODIFIED:20240813T004623Z
UID:137606-1724997600-1724997600@news.gcu.edu
SUMMARY:Sunrise Yoga
DESCRIPTION:
URL:https://news.gcu.edu/event/sunrise-yoga-2/
LOCATION:Prescott Field
END:VEVENT
BEGIN:VEVENT
DTSTART;TZID=America/Phoenix:20240831T183000
DTEND;TZID=America/Phoenix:20240831T183000
DTSTAMP:20260419T092019
CREATED:20240813T005241Z
LAST-MODIFIED:20240813T005241Z
UID:137613-1725129000-1725129000@news.gcu.edu
SUMMARY:American Swing Kids Dance Night
DESCRIPTION:
URL:https://news.gcu.edu/event/american-swing-kids-dance-night/
LOCATION:Prescott Field
ATTACH;FMTTYPE=image/jpeg:https://news.gcu.edu/app/uploads/2024/03/AmericanKids-CountrySwingDance-rf-022624-001-1.jpg
END:VEVENT
BEGIN:VEVENT
DTSTART;TZID=America/Phoenix:20240916T190000
DTEND;TZID=America/Phoenix:20240916T210000
DTSTAMP:20260419T092019
CREATED:20240821T170149Z
LAST-MODIFIED:20240821T170149Z
UID:138001-1726513200-1726520400@news.gcu.edu
SUMMARY:Lopes Fair
DESCRIPTION:
URL:https://news.gcu.edu/event/lopes-fair/
LOCATION:Prescott Field
ATTACH;FMTTYPE=image/jpeg:https://news.gcu.edu/app/uploads/2023/09/FairwellToSummer-CAB-rf-092823-004.jpg
END:VEVENT
BEGIN:VEVENT
DTSTART;TZID=America/Phoenix:20240918T180000
DTEND;TZID=America/Phoenix:20240918T210000
DTSTAMP:20260419T092019
CREATED:20240820T233014Z
LAST-MODIFIED:20240821T220302Z
UID:137933-1726682400-1726693200@news.gcu.edu
SUMMARY:Hispanic Heritage Celebration
DESCRIPTION:Presented by the Multicultural Office
URL:https://news.gcu.edu/event/hispanic-heritage-celebration/
LOCATION:Prescott Field
ATTACH;FMTTYPE=image/jpeg:https://news.gcu.edu/app/uploads/2023/09/HispanicHeritage-Celebration-rf-091923-023-1.jpg
END:VEVENT
BEGIN:VEVENT
DTSTART;TZID=America/Phoenix:20241003T190000
DTEND;TZID=America/Phoenix:20241003T210000
DTSTAMP:20260419T092019
CREATED:20240821T203849Z
LAST-MODIFIED:20240821T203849Z
UID:138107-1727982000-1727989200@news.gcu.edu
SUMMARY:Country Lopes
DESCRIPTION:
URL:https://news.gcu.edu/event/country-lopes-2/
LOCATION:Prescott Field
ATTACH;FMTTYPE=image/jpeg:https://news.gcu.edu/app/uploads/2023/10/CountryLopes-CAB-rf-100523-002.jpg
END:VEVENT
END:VCALENDAR