BEGIN:VCALENDAR
VERSION:2.0
PRODID:-//GCU News - ECPv5.14.1//NONSGML v1.0//EN
CALSCALE:GREGORIAN
METHOD:PUBLISH
X-WR-CALNAME:GCU News
X-ORIGINAL-URL:https://news.gcu.edu
X-WR-CALDESC:Events for GCU News
REFRESH-INTERVAL;VALUE=DURATION:PT1H
X-Robots-Tag:noindex
X-PUBLISHED-TTL:PT1H
BEGIN:VTIMEZONE
TZID:America/Phoenix
BEGIN:STANDARD
TZOFFSETFROM:-0700
TZOFFSETTO:-0700
TZNAME:MST
DTSTART:20240101T000000
END:STANDARD
END:VTIMEZONE
BEGIN:VEVENT
DTSTART;TZID=America/Phoenix:20240217T190000
DTEND;TZID=America/Phoenix:20240217T210000
DTSTAMP:20260424T161939
CREATED:20240214T212302Z
LAST-MODIFIED:20240214T212502Z
UID:130952-1708196400-1708203600@news.gcu.edu
SUMMARY:FIFA tournament
DESCRIPTION:
URL:https://news.gcu.edu/event/fifa-tournament/
LOCATION:Esports Arena\, Room 221\, Technology Building
END:VEVENT
BEGIN:VEVENT
DTSTART;TZID=America/Phoenix:20240302T190000
DTEND;TZID=America/Phoenix:20240302T210000
DTSTAMP:20260424T161939
CREATED:20240214T212537Z
LAST-MODIFIED:20240214T212600Z
UID:130957-1709406000-1709413200@news.gcu.edu
SUMMARY:2K tournament\, Madden tournament
DESCRIPTION:
URL:https://news.gcu.edu/event/2k-tournament/
LOCATION:Esports Arena\, Room 221\, Technology Building
END:VEVENT
BEGIN:VEVENT
DTSTART;TZID=America/Phoenix:20240322T190000
DTEND;TZID=America/Phoenix:20240322T210000
DTSTAMP:20260424T161939
CREATED:20240214T212411Z
LAST-MODIFIED:20240214T212411Z
UID:130954-1711134000-1711141200@news.gcu.edu
SUMMARY:FIFA tournament
DESCRIPTION:
URL:https://news.gcu.edu/event/fifa-tournament-2/
LOCATION:Esports Arena\, Room 221\, Technology Building
END:VEVENT
END:VCALENDAR