BEGIN:VCALENDAR
VERSION:2.0
PRODID:-//GCU News - ECPv5.14.1//NONSGML v1.0//EN
CALSCALE:GREGORIAN
METHOD:PUBLISH
X-WR-CALNAME:GCU News
X-ORIGINAL-URL:https://news.gcu.edu
X-WR-CALDESC:Events for GCU News
REFRESH-INTERVAL;VALUE=DURATION:PT1H
X-Robots-Tag:noindex
X-PUBLISHED-TTL:PT1H
BEGIN:VTIMEZONE
TZID:America/Phoenix
BEGIN:STANDARD
TZOFFSETFROM:-0700
TZOFFSETTO:-0700
TZNAME:MST
DTSTART:20250101T000000
END:STANDARD
END:VTIMEZONE
BEGIN:VEVENT
DTSTART;TZID=America/Phoenix:20251113T090000
DTEND;TZID=America/Phoenix:20251113T160000
DTSTAMP:20260419T074944
CREATED:20250807T221951Z
LAST-MODIFIED:20250807T221951Z
UID:154955-1763024400-1763049600@news.gcu.edu
SUMMARY:IDEA Club Marketplace
DESCRIPTION:
URL:https://news.gcu.edu/event/idea-club-marketplace-7/2025-11-13/
LOCATION:CCOB Courtyard
ATTACH;FMTTYPE=image/jpeg:https://news.gcu.edu/app/uploads/2024/11/Marketplace-Kate-Hames-rf-110123-004.jpg
END:VEVENT
BEGIN:VEVENT
DTSTART;TZID=America/Phoenix:20260114T160000
DTEND;TZID=America/Phoenix:20260114T173000
DTSTAMP:20260419T074944
CREATED:20260109T201007Z
LAST-MODIFIED:20260109T201007Z
UID:162744-1768406400-1768411800@news.gcu.edu
SUMMARY:Colangelo College of Business Club Fair
DESCRIPTION:
URL:https://news.gcu.edu/event/colangelo-college-of-business-club-fair/
LOCATION:CCOB Courtyard
ATTACH;FMTTYPE=image/jpeg:https://news.gcu.edu/app/uploads/2019/10/marquis-1_ready.jpg
END:VEVENT
BEGIN:VEVENT
DTSTART;TZID=America/Phoenix:20260205T090000
DTEND;TZID=America/Phoenix:20260205T160000
DTSTAMP:20260419T074944
CREATED:20260122T232649Z
LAST-MODIFIED:20260122T232649Z
UID:163310-1770282000-1770307200@news.gcu.edu
SUMMARY:Idea Marketplace
DESCRIPTION:
URL:https://news.gcu.edu/event/idea-marketplace-2/
LOCATION:CCOB Courtyard
ATTACH;FMTTYPE=image/jpeg:https://news.gcu.edu/app/uploads/2025/02/ChloeMohatt-EasySoul-rf-021325-003-1.jpg
END:VEVENT
BEGIN:VEVENT
DTSTART;TZID=America/Phoenix:20260219T090000
DTEND;TZID=America/Phoenix:20260219T160000
DTSTAMP:20260419T074944
CREATED:20260122T233051Z
LAST-MODIFIED:20260122T233051Z
UID:163314-1771491600-1771516800@news.gcu.edu
SUMMARY:Idea Marketplace
DESCRIPTION:
URL:https://news.gcu.edu/event/idea-marketplace-3/
LOCATION:CCOB Courtyard
ATTACH;FMTTYPE=image/jpeg:https://news.gcu.edu/app/uploads/2023/11/Marketplace-Kate-Hames-rf-110123-003.jpg
END:VEVENT
BEGIN:VEVENT
DTSTART;TZID=America/Phoenix:20260319T090000
DTEND;TZID=America/Phoenix:20260319T160000
DTSTAMP:20260419T074944
CREATED:20260316T214755Z
LAST-MODIFIED:20260316T214755Z
UID:165350-1773910800-1773936000@news.gcu.edu
SUMMARY:IDEA Club Marketplace
DESCRIPTION:
URL:https://news.gcu.edu/event/idea-club-marketplace-10/
LOCATION:CCOB Courtyard
ATTACH;FMTTYPE=image/jpeg:https://news.gcu.edu/app/uploads/2024/11/Marketplace-Kate-Hames-rf-110123-004.jpg
END:VEVENT
END:VCALENDAR