BEGIN:VCALENDAR
VERSION:2.0
PRODID:-//GCU News - ECPv5.14.1//NONSGML v1.0//EN
CALSCALE:GREGORIAN
METHOD:PUBLISH
X-WR-CALNAME:GCU News
X-ORIGINAL-URL:https://news.gcu.edu
X-WR-CALDESC:Events for GCU News
REFRESH-INTERVAL;VALUE=DURATION:PT1H
X-Robots-Tag:noindex
X-PUBLISHED-TTL:PT1H
BEGIN:VTIMEZONE
TZID:America/Phoenix
BEGIN:STANDARD
TZOFFSETFROM:-0700
TZOFFSETTO:-0700
TZNAME:MST
DTSTART:20220101T000000
END:STANDARD
END:VTIMEZONE
BEGIN:VEVENT
DTSTART;TZID=America/Phoenix:20220929T190000
DTEND;TZID=America/Phoenix:20220929T190000
DTSTAMP:20260419T054105
CREATED:20220906T182949Z
LAST-MODIFIED:20220906T182949Z
UID:108772-1664478000-1664478000@news.gcu.edu
SUMMARY:Critical Mass concert
DESCRIPTION:
URL:https://news.gcu.edu/event/critical-mass-concert/
LOCATION:Camelback Bible\, 3900 E. Stanford Dr.\, Paradise Valley\, 85253
ATTACH;FMTTYPE=image/jpeg:https://news.gcu.edu/app/uploads/2022/04/Commencement-BehindScenes-rf-042822-003_patrick-1.jpg
END:VEVENT
BEGIN:VEVENT
DTSTART;TZID=America/Phoenix:20230221T190000
DTEND;TZID=America/Phoenix:20230221T190000
DTSTAMP:20260419T054105
CREATED:20220908T225954Z
LAST-MODIFIED:20220908T225954Z
UID:109310-1677006000-1677006000@news.gcu.edu
SUMMARY:Masterworks 6: The Sacred Veil
DESCRIPTION:
URL:https://news.gcu.edu/event/masterworks-6-the-sacred-veil/
LOCATION:Camelback Bible\, 3900 E. Stanford Dr.\, Paradise Valley\, 85253
END:VEVENT
BEGIN:VEVENT
DTSTART;TZID=America/Phoenix:20230420T190000
DTEND;TZID=America/Phoenix:20230420T190000
DTSTAMP:20260419T054105
CREATED:20220912T205813Z
LAST-MODIFIED:20220912T205813Z
UID:109512-1682017200-1682017200@news.gcu.edu
SUMMARY:Masterworks 9: Best of the Year
DESCRIPTION:
URL:https://news.gcu.edu/event/masterworks-9-best-of-the-year/
LOCATION:Camelback Bible\, 3900 E. Stanford Dr.\, Paradise Valley\, 85253
END:VEVENT
END:VCALENDAR