BEGIN:VCALENDAR
VERSION:2.0
PRODID:-//GCU News - ECPv5.14.1//NONSGML v1.0//EN
CALSCALE:GREGORIAN
METHOD:PUBLISH
X-WR-CALNAME:GCU News
X-ORIGINAL-URL:https://news.gcu.edu
X-WR-CALDESC:Events for GCU News
REFRESH-INTERVAL;VALUE=DURATION:PT1H
X-Robots-Tag:noindex
X-PUBLISHED-TTL:PT1H
BEGIN:VTIMEZONE
TZID:America/Phoenix
BEGIN:STANDARD
TZOFFSETFROM:-0700
TZOFFSETTO:-0700
TZNAME:MST
DTSTART:20230101T000000
END:STANDARD
END:VTIMEZONE
BEGIN:VEVENT
DTSTART;TZID=America/Phoenix:20231203T180000
DTEND;TZID=America/Phoenix:20231203T180000
DTSTAMP:20260423T232929
CREATED:20231104T023629Z
LAST-MODIFIED:20231104T023629Z
UID:126710-1701626400-1701626400@news.gcu.edu
SUMMARY:Masterworks concert: "Messiah"
DESCRIPTION:
URL:https://news.gcu.edu/event/masterworks-concert-messiah/
LOCATION:Bellevue Heights Church\, 9440 W. Hutton\, Sun City
ATTACH;FMTTYPE=image/jpeg:https://news.gcu.edu/app/uploads/2021/12/Handels-Messiah-2.jpg
END:VEVENT
BEGIN:VEVENT
DTSTART;TZID=America/Phoenix:20240428T180000
DTEND;TZID=America/Phoenix:20240428T180000
DTSTAMP:20260423T232929
CREATED:20240109T185528Z
LAST-MODIFIED:20240109T185528Z
UID:129148-1714327200-1714327200@news.gcu.edu
SUMMARY:Critical Mass in Concert
DESCRIPTION:
URL:https://news.gcu.edu/event/critical-mass-in-concert-5/
LOCATION:Bellevue Heights Church\, 9440 W. Hutton\, Sun City
END:VEVENT
BEGIN:VEVENT
DTSTART;TZID=America/Phoenix:20241006T180000
DTEND;TZID=America/Phoenix:20241006T180000
DTSTAMP:20260423T232929
CREATED:20240927T014006Z
LAST-MODIFIED:20240927T014006Z
UID:140072-1728237600-1728237600@news.gcu.edu
SUMMARY:Songs of Our Faith Concert
DESCRIPTION:The concert features Canyon Chorale and Critical Mass under the direction of Dr. Juan de Dios Hernandez.
URL:https://news.gcu.edu/event/songs-of-our-faith-concert/
LOCATION:Bellevue Heights Church\, 9440 W. Hutton\, Sun City
ATTACH;FMTTYPE=image/jpeg:https://news.gcu.edu/app/uploads/2018/12/criticalmass2.jpg
END:VEVENT
BEGIN:VEVENT
DTSTART;TZID=America/Phoenix:20241208T180000
DTEND;TZID=America/Phoenix:20241208T180000
DTSTAMP:20260423T232929
CREATED:20240927T015352Z
LAST-MODIFIED:20240927T015352Z
UID:140080-1733680800-1733680800@news.gcu.edu
SUMMARY:Handel's Messiah concert
DESCRIPTION:
URL:https://news.gcu.edu/event/handels-messiah-concert/
LOCATION:Bellevue Heights Church\, 9440 W. Hutton\, Sun City
ATTACH;FMTTYPE=image/jpeg:https://news.gcu.edu/app/uploads/2018/12/choral-society-2018-messiah.jpg
END:VEVENT
BEGIN:VEVENT
DTSTART;TZID=America/Phoenix:20250427T180000
DTEND;TZID=America/Phoenix:20250427T180000
DTSTAMP:20260423T232929
CREATED:20240927T021727Z
LAST-MODIFIED:20240927T021727Z
UID:140095-1745776800-1745776800@news.gcu.edu
SUMMARY:Critical Mass in Concert
DESCRIPTION:
URL:https://news.gcu.edu/event/critical-mass-in-concert-6/
LOCATION:Bellevue Heights Church\, 9440 W. Hutton\, Sun City
ATTACH;FMTTYPE=image/jpeg:https://news.gcu.edu/app/uploads/2024/04/CommencementProfile-CriticalMass-rf-042624-001.jpg
END:VEVENT
END:VCALENDAR