BEGIN:VCALENDAR
VERSION:2.0
PRODID:-//GCU News - ECPv5.14.1//NONSGML v1.0//EN
CALSCALE:GREGORIAN
METHOD:PUBLISH
X-WR-CALNAME:GCU News
X-ORIGINAL-URL:https://news.gcu.edu
X-WR-CALDESC:Events for GCU News
REFRESH-INTERVAL;VALUE=DURATION:PT1H
X-Robots-Tag:noindex
X-PUBLISHED-TTL:PT1H
BEGIN:VTIMEZONE
TZID:America/Phoenix
BEGIN:STANDARD
TZOFFSETFROM:-0700
TZOFFSETTO:-0700
TZNAME:MST
DTSTART:20220101T000000
END:STANDARD
END:VTIMEZONE
BEGIN:VEVENT
DTSTART;TZID=America/Phoenix:20221025T130000
DTEND;TZID=America/Phoenix:20221025T180000
DTSTAMP:20260419T060249
CREATED:20221025T212754Z
LAST-MODIFIED:20221025T212754Z
UID:112310-1666702800-1666720800@news.gcu.edu
SUMMARY:ACSI Job Fair for International Schools
DESCRIPTION:Presented by SEI. Students: RSVP in Career Connections.
URL:https://news.gcu.edu/event/acsi-job-fair-for-international-schools/
LOCATION:Arena Quad Lawn
END:VEVENT
BEGIN:VEVENT
DTSTART;TZID=America/Phoenix:20250206T170000
DTEND;TZID=America/Phoenix:20250206T190000
DTSTAMP:20260419T060249
CREATED:20250109T165651Z
LAST-MODIFIED:20250109T165651Z
UID:145062-1738861200-1738868400@news.gcu.edu
SUMMARY:Adventure Camp Fair
DESCRIPTION:Students will have the opportunity to network with summer camps and outdoor recreation companies.
URL:https://news.gcu.edu/event/adventure-camp-fair/
LOCATION:Arena Quad Lawn
END:VEVENT
BEGIN:VEVENT
DTSTART;TZID=America/Phoenix:20250404T093000
DTEND;TZID=America/Phoenix:20250404T160000
DTSTAMP:20260419T060249
CREATED:20250325T225331Z
LAST-MODIFIED:20250325T225331Z
UID:148755-1743759000-1743782400@news.gcu.edu
SUMMARY:Idea Marketplace
DESCRIPTION:
URL:https://news.gcu.edu/event/idea-marketplace/
LOCATION:Arena Quad Lawn
ATTACH;FMTTYPE=image/jpeg:https://news.gcu.edu/app/uploads/2024/11/Marketplace-Kate-Hames-rf-110123-004.jpg
END:VEVENT
BEGIN:VEVENT
DTSTART;TZID=America/Phoenix:20260128T190000
DTEND;TZID=America/Phoenix:20260128T190000
DTSTAMP:20260419T060249
CREATED:20251029T164556Z
LAST-MODIFIED:20251029T164556Z
UID:159689-1769626800-1769626800@news.gcu.edu
SUMMARY:Evening of Worship\, Music and Dance
DESCRIPTION:
URL:https://news.gcu.edu/event/evening-of-worship-music-and-dance/
LOCATION:Arena Quad Lawn
ATTACH;FMTTYPE=image/jpeg:https://news.gcu.edu/app/uploads/2023/11/WorshipMusicDance-rf-110223-001.jpg
END:VEVENT
END:VCALENDAR