BEGIN:VCALENDAR
VERSION:2.0
PRODID:-//GCU News - ECPv5.14.1//NONSGML v1.0//EN
CALSCALE:GREGORIAN
METHOD:PUBLISH
X-WR-CALNAME:GCU News
X-ORIGINAL-URL:https://news.gcu.edu
X-WR-CALDESC:Events for GCU News
REFRESH-INTERVAL;VALUE=DURATION:PT1H
X-Robots-Tag:noindex
X-PUBLISHED-TTL:PT1H
BEGIN:VTIMEZONE
TZID:America/Phoenix
BEGIN:STANDARD
TZOFFSETFROM:-0700
TZOFFSETTO:-0700
TZNAME:MST
DTSTART:20250101T000000
END:STANDARD
END:VTIMEZONE
BEGIN:VEVENT
DTSTART;TZID=America/Phoenix:20251118T193000
DTEND;TZID=America/Phoenix:20251118T193000
DTSTAMP:20260419T083606
CREATED:20250904T223938Z
LAST-MODIFIED:20250904T223938Z
UID:156311-1763494200-1763494200@news.gcu.edu
SUMMARY:The Gathering
DESCRIPTION:
URL:https://news.gcu.edu/event/the-gathering-39/2025-11-18/
LOCATION:Antelope Gymnasium
ATTACH;FMTTYPE=image/jpeg:https://news.gcu.edu/app/uploads/2024/10/UnityWalk-TheGathering-rf-101524-027.jpg
END:VEVENT
BEGIN:VEVENT
DTSTART;TZID=America/Phoenix:20251202T193000
DTEND;TZID=America/Phoenix:20251202T193000
DTSTAMP:20260419T083606
CREATED:20250904T223938Z
LAST-MODIFIED:20250904T223938Z
UID:156313-1764703800-1764703800@news.gcu.edu
SUMMARY:The Gathering
DESCRIPTION:
URL:https://news.gcu.edu/event/the-gathering-39/2025-12-02/
LOCATION:Antelope Gymnasium
ATTACH;FMTTYPE=image/jpeg:https://news.gcu.edu/app/uploads/2024/10/UnityWalk-TheGathering-rf-101524-027.jpg
END:VEVENT
BEGIN:VEVENT
DTSTART;TZID=America/Phoenix:20251209T193000
DTEND;TZID=America/Phoenix:20251209T193000
DTSTAMP:20260419T083606
CREATED:20250904T223938Z
LAST-MODIFIED:20250904T223938Z
UID:156314-1765308600-1765308600@news.gcu.edu
SUMMARY:The Gathering
DESCRIPTION:
URL:https://news.gcu.edu/event/the-gathering-39/2025-12-09/
LOCATION:Antelope Gymnasium
ATTACH;FMTTYPE=image/jpeg:https://news.gcu.edu/app/uploads/2024/10/UnityWalk-TheGathering-rf-101524-027.jpg
END:VEVENT
BEGIN:VEVENT
DTSTART;TZID=America/Phoenix:20260106T193000
DTEND;TZID=America/Phoenix:20260106T193000
DTSTAMP:20260419T083606
CREATED:20260105T173319Z
LAST-MODIFIED:20260105T173319Z
UID:162355-1767727800-1767727800@news.gcu.edu
SUMMARY:The Gathering
DESCRIPTION:
URL:https://news.gcu.edu/event/the-gathering-40/
LOCATION:Antelope Gymnasium
ATTACH;FMTTYPE=image/jpeg:https://news.gcu.edu/app/uploads/2022/05/TheGathering-rf-022222-010_jared-1.jpg
END:VEVENT
BEGIN:VEVENT
DTSTART;TZID=America/Phoenix:20260113T193000
DTEND;TZID=America/Phoenix:20260113T193000
DTSTAMP:20260419T083606
CREATED:20260105T173418Z
LAST-MODIFIED:20260105T173418Z
UID:162357-1768332600-1768332600@news.gcu.edu
SUMMARY:The Gathering
DESCRIPTION:
URL:https://news.gcu.edu/event/the-gathering-41/
LOCATION:Antelope Gymnasium
ATTACH;FMTTYPE=image/jpeg:https://news.gcu.edu/app/uploads/2022/05/TheGathering-rf-022222-002-1.jpg
END:VEVENT
BEGIN:VEVENT
DTSTART;TZID=America/Phoenix:20260120T193000
DTEND;TZID=America/Phoenix:20260120T193000
DTSTAMP:20260419T083606
CREATED:20260105T173510Z
LAST-MODIFIED:20260105T173510Z
UID:162359-1768937400-1768937400@news.gcu.edu
SUMMARY:The Gathering
DESCRIPTION:
URL:https://news.gcu.edu/event/the-gathering-42/
LOCATION:Antelope Gymnasium
ATTACH;FMTTYPE=image/jpeg:https://news.gcu.edu/app/uploads/2022/05/TheGathering-rf-022222-010_jared-1.jpg
END:VEVENT
BEGIN:VEVENT
DTSTART;TZID=America/Phoenix:20260127T193000
DTEND;TZID=America/Phoenix:20260127T193000
DTSTAMP:20260419T083606
CREATED:20260105T173603Z
LAST-MODIFIED:20260105T173603Z
UID:162361-1769542200-1769542200@news.gcu.edu
SUMMARY:The Gathering
DESCRIPTION:
URL:https://news.gcu.edu/event/the-gathering-43/
LOCATION:Antelope Gymnasium
ATTACH;FMTTYPE=image/jpeg:https://news.gcu.edu/app/uploads/2022/05/April-Cover-rf-022222-001_pray-1.jpg
END:VEVENT
BEGIN:VEVENT
DTSTART;TZID=America/Phoenix:20260202T190000
DTEND;TZID=America/Phoenix:20260202T210000
DTSTAMP:20260419T083607
CREATED:20260130T183201Z
LAST-MODIFIED:20260130T183201Z
UID:163640-1770058800-1770066000@news.gcu.edu
SUMMARY:Cupid Shuffle Dance
DESCRIPTION:
URL:https://news.gcu.edu/event/cupid-shuffle-dance/
LOCATION:Antelope Gymnasium
ATTACH;FMTTYPE=image/jpeg:https://news.gcu.edu/app/uploads/2025/02/CupidShuffle-rf-020525-022.jpg
END:VEVENT
BEGIN:VEVENT
DTSTART;TZID=America/Phoenix:20260203T193000
DTEND;TZID=America/Phoenix:20260203T193000
DTSTAMP:20260419T083607
CREATED:20260105T173814Z
LAST-MODIFIED:20260105T173814Z
UID:162363-1770147000-1770147000@news.gcu.edu
SUMMARY:The Gathering
DESCRIPTION:
URL:https://news.gcu.edu/event/the-gathering-44/
LOCATION:Antelope Gymnasium
ATTACH;FMTTYPE=image/jpeg:https://news.gcu.edu/app/uploads/2022/05/TheGathering-rf-022222-002-1.jpg
END:VEVENT
BEGIN:VEVENT
DTSTART;TZID=America/Phoenix:20260210T193000
DTEND;TZID=America/Phoenix:20260210T193000
DTSTAMP:20260419T083607
CREATED:20260105T173932Z
LAST-MODIFIED:20260105T173932Z
UID:162365-1770751800-1770751800@news.gcu.edu
SUMMARY:The Gathering
DESCRIPTION:
URL:https://news.gcu.edu/event/the-gathering-45/
LOCATION:Antelope Gymnasium
ATTACH;FMTTYPE=image/jpeg:https://news.gcu.edu/app/uploads/2022/10/TheGathering-rf-092722-003.jpg
END:VEVENT
BEGIN:VEVENT
DTSTART;TZID=America/Phoenix:20260217T193000
DTEND;TZID=America/Phoenix:20260217T193000
DTSTAMP:20260419T083607
CREATED:20260105T174051Z
LAST-MODIFIED:20260105T174051Z
UID:162367-1771356600-1771356600@news.gcu.edu
SUMMARY:The Gathering
DESCRIPTION:
URL:https://news.gcu.edu/event/the-gathering-46/
LOCATION:Antelope Gymnasium
ATTACH;FMTTYPE=image/jpeg:https://news.gcu.edu/app/uploads/2022/05/TheGathering-rf-022222-010_jared-1.jpg
END:VEVENT
BEGIN:VEVENT
DTSTART;TZID=America/Phoenix:20260224T193000
DTEND;TZID=America/Phoenix:20260224T193000
DTSTAMP:20260419T083607
CREATED:20260105T174155Z
LAST-MODIFIED:20260105T174155Z
UID:162369-1771961400-1771961400@news.gcu.edu
SUMMARY:The Gathering
DESCRIPTION:
URL:https://news.gcu.edu/event/the-gathering-47/
LOCATION:Antelope Gymnasium
ATTACH;FMTTYPE=image/jpeg:https://news.gcu.edu/app/uploads/2022/05/April-Cover-rf-022222-001_pray-1.jpg
END:VEVENT
BEGIN:VEVENT
DTSTART;TZID=America/Phoenix:20260228T090000
DTEND;TZID=America/Phoenix:20260228T130000
DTSTAMP:20260419T083607
CREATED:20260220T203606Z
LAST-MODIFIED:20260220T203606Z
UID:164382-1772269200-1772283600@news.gcu.edu
SUMMARY:Cheer Stunt Clinic
DESCRIPTION:This clinic will focus on teaching proper progression of group/multi-base stunting and or coed partner stunting\, focusing on collegiate technique and skills. Participants will also have the opportunity to work on tumbling skills\, and game day skills with the help of knowledgeable instructors. Information
URL:https://news.gcu.edu/event/cheer-stunt-clinic/
LOCATION:Antelope Gymnasium
ATTACH;FMTTYPE=image/jpeg:https://news.gcu.edu/app/uploads/2025/02/Spirit-Team.jpg
END:VEVENT
BEGIN:VEVENT
DTSTART;TZID=America/Phoenix:20260303T193000
DTEND;TZID=America/Phoenix:20260303T193000
DTSTAMP:20260419T083607
CREATED:20260105T174250Z
LAST-MODIFIED:20260105T174250Z
UID:162371-1772566200-1772566200@news.gcu.edu
SUMMARY:The Gathering
DESCRIPTION:
URL:https://news.gcu.edu/event/the-gathering-48/
LOCATION:Antelope Gymnasium
ATTACH;FMTTYPE=image/jpeg:https://news.gcu.edu/app/uploads/2024/10/UnityWalk-TheGathering-rf-101524-017.jpg
END:VEVENT
BEGIN:VEVENT
DTSTART;TZID=America/Phoenix:20260317T193000
DTEND;TZID=America/Phoenix:20260317T193000
DTSTAMP:20260419T083607
CREATED:20260105T174432Z
LAST-MODIFIED:20260105T174432Z
UID:162375-1773775800-1773775800@news.gcu.edu
SUMMARY:The Gathering
DESCRIPTION:
URL:https://news.gcu.edu/event/the-gathering-50/
LOCATION:Antelope Gymnasium
ATTACH;FMTTYPE=image/jpeg:https://news.gcu.edu/app/uploads/2022/05/TheGathering-rf-022222-010_jared-1.jpg
END:VEVENT
BEGIN:VEVENT
DTSTART;TZID=America/Phoenix:20260324T193000
DTEND;TZID=America/Phoenix:20260324T193000
DTSTAMP:20260419T083607
CREATED:20260105T174517Z
LAST-MODIFIED:20260105T174517Z
UID:162377-1774380600-1774380600@news.gcu.edu
SUMMARY:The Gathering
DESCRIPTION:
URL:https://news.gcu.edu/event/the-gathering-51/
LOCATION:Antelope Gymnasium
ATTACH;FMTTYPE=image/jpeg:https://news.gcu.edu/app/uploads/2022/10/TheGathering-rf-092722-003.jpg
END:VEVENT
BEGIN:VEVENT
DTSTART;TZID=America/Phoenix:20260331T193000
DTEND;TZID=America/Phoenix:20260331T193000
DTSTAMP:20260419T083607
CREATED:20260105T174601Z
LAST-MODIFIED:20260105T174601Z
UID:162379-1774985400-1774985400@news.gcu.edu
SUMMARY:The Gathering
DESCRIPTION:
URL:https://news.gcu.edu/event/the-gathering-52/
LOCATION:Antelope Gymnasium
ATTACH;FMTTYPE=image/jpeg:https://news.gcu.edu/app/uploads/2022/05/TheGathering-rf-022222-010_jared-1.jpg
END:VEVENT
BEGIN:VEVENT
DTSTART;TZID=America/Phoenix:20260407T193000
DTEND;TZID=America/Phoenix:20260407T193000
DTSTAMP:20260419T083607
CREATED:20260105T174641Z
LAST-MODIFIED:20260105T174641Z
UID:162382-1775590200-1775590200@news.gcu.edu
SUMMARY:The Gathering
DESCRIPTION:
URL:https://news.gcu.edu/event/the-gathering-53/
LOCATION:Antelope Gymnasium
ATTACH;FMTTYPE=image/jpeg:https://news.gcu.edu/app/uploads/2022/05/TheGathering-rf-022222-002-1.jpg
END:VEVENT
BEGIN:VEVENT
DTSTART;TZID=America/Phoenix:20260413T130000
DTEND;TZID=America/Phoenix:20260413T170000
DTSTAMP:20260419T083607
CREATED:20260316T222308Z
LAST-MODIFIED:20260316T222308Z
UID:165354-1776085200-1776099600@news.gcu.edu
SUMMARY:Canyon Undergraduate Research Conference
DESCRIPTION:
URL:https://news.gcu.edu/event/canyon-undergraduate-research-conference-2/
LOCATION:Antelope Gymnasium
ATTACH;FMTTYPE=image/jpeg:https://news.gcu.edu/app/uploads/2024/04/Undergraduate-ResearchConference-rf-040124-004.jpg
END:VEVENT
END:VCALENDAR