BEGIN:VCALENDAR
VERSION:2.0
PRODID:-//GCU News - ECPv5.14.1//NONSGML v1.0//EN
CALSCALE:GREGORIAN
METHOD:PUBLISH
X-WR-CALNAME:GCU News
X-ORIGINAL-URL:https://news.gcu.edu
X-WR-CALDESC:Events for GCU News
REFRESH-INTERVAL;VALUE=DURATION:PT1H
X-Robots-Tag:noindex
X-PUBLISHED-TTL:PT1H
BEGIN:VTIMEZONE
TZID:America/Phoenix
BEGIN:STANDARD
TZOFFSETFROM:-0700
TZOFFSETTO:-0700
TZNAME:MST
DTSTART:20260101T000000
END:STANDARD
END:VTIMEZONE
BEGIN:VEVENT
DTSTART;TZID=America/Phoenix:20260327T110000
DTEND;TZID=America/Phoenix:20260327T110000
DTSTAMP:20260418T101434
CREATED:20260114T185040Z
LAST-MODIFIED:20260114T185040Z
UID:163010-1774609200-1774609200@news.gcu.edu
SUMMARY:Women's Tennis
DESCRIPTION:vs. Air Force
URL:https://news.gcu.edu/event/womens-tennis-27/
LOCATION:GCU Tennis Facility
ATTACH;FMTTYPE=image/jpeg:https://news.gcu.edu/app/uploads/2014/02/Tennis-1.jpg
END:VEVENT
BEGIN:VEVENT
DTSTART;TZID=America/Phoenix:20260327T120000
DTEND;TZID=America/Phoenix:20260327T140000
DTSTAMP:20260418T101434
CREATED:20260316T225925Z
LAST-MODIFIED:20260316T225925Z
UID:165381-1774612800-1774620000@news.gcu.edu
SUMMARY:InstaGrowth
DESCRIPTION:
URL:https://news.gcu.edu/event/instagrowth/
LOCATION:Student Union
ATTACH;FMTTYPE=image/jpeg:https://news.gcu.edu/app/uploads/2019/01/ASGCUlogoWEBSITE.jpg
END:VEVENT
BEGIN:VEVENT
DTSTART;TZID=America/Phoenix:20260327T180000
DTEND;TZID=America/Phoenix:20260327T180000
DTSTAMP:20260418T101434
CREATED:20260114T172434Z
LAST-MODIFIED:20260114T172516Z
UID:162947-1774634400-1774634400@news.gcu.edu
SUMMARY:Baseball
DESCRIPTION:vs. San Diego State
URL:https://news.gcu.edu/event/baseball-63/2026-03-27/
LOCATION:Brazell Field at GCU Ballpark
ATTACH;FMTTYPE=image/jpeg:https://news.gcu.edu/app/uploads/2015/04/baseball1.jpg
END:VEVENT
BEGIN:VEVENT
DTSTART;TZID=America/Phoenix:20260327T180000
DTEND;TZID=America/Phoenix:20260327T180000
DTSTAMP:20260418T101434
CREATED:20260316T230226Z
LAST-MODIFIED:20260316T230226Z
UID:165383-1774634400-1774634400@news.gcu.edu
SUMMARY:Pirates of the Caribbean Movie Night
DESCRIPTION:
URL:https://news.gcu.edu/event/pirates-of-the-caribbean-movie-night/
LOCATION:Thunderground
ATTACH;FMTTYPE=image/jpeg:https://news.gcu.edu/app/uploads/2019/08/Night-at-the-Movies-082019-001.jpg
END:VEVENT
BEGIN:VEVENT
DTSTART;TZID=America/Phoenix:20260327T190000
DTEND;TZID=America/Phoenix:20260327T201500
DTSTAMP:20260418T101434
CREATED:20260112T203236Z
LAST-MODIFIED:20260112T203236Z
UID:162857-1774638000-1774642500@news.gcu.edu
SUMMARY:GCU Soccer Performance Center Session
DESCRIPTION:
URL:https://news.gcu.edu/event/gcu-soccer-performance-center-session/2026-03-27/
LOCATION:GCU Soccer Stadium and Practice Field
ATTACH;FMTTYPE=image/jpeg:https://news.gcu.edu/app/uploads/2016/06/soccer-camp.001.jpg
END:VEVENT
END:VCALENDAR