BEGIN:VCALENDAR
VERSION:2.0
PRODID:-//GCU News - ECPv5.14.1//NONSGML v1.0//EN
CALSCALE:GREGORIAN
METHOD:PUBLISH
X-WR-CALNAME:GCU News
X-ORIGINAL-URL:https://news.gcu.edu
X-WR-CALDESC:Events for GCU News
REFRESH-INTERVAL;VALUE=DURATION:PT1H
X-Robots-Tag:noindex
X-PUBLISHED-TTL:PT1H
BEGIN:VTIMEZONE
TZID:America/Phoenix
BEGIN:STANDARD
TZOFFSETFROM:-0700
TZOFFSETTO:-0700
TZNAME:MST
DTSTART:20260101T000000
END:STANDARD
END:VTIMEZONE
BEGIN:VEVENT
DTSTART;TZID=America/Phoenix:20260316T110000
DTEND;TZID=America/Phoenix:20260316T110000
DTSTAMP:20260419T152837
CREATED:20260105T171819Z
LAST-MODIFIED:20260105T171819Z
UID:162346-1773658800-1773658800@news.gcu.edu
SUMMARY:Chapel
DESCRIPTION:Speaker: Chris Brown\, North Coast Church
URL:https://news.gcu.edu/event/chapel-75/
LOCATION:Global Credit Union Arena
ATTACH;FMTTYPE=image/jpeg:https://news.gcu.edu/app/uploads/2025/11/chapel-logo.jpg
END:VEVENT
BEGIN:VEVENT
DTSTART;TZID=America/Phoenix:20260316T120000
DTEND;TZID=America/Phoenix:20260316T120000
DTSTAMP:20260419T152837
CREATED:20260109T201951Z
LAST-MODIFIED:20260126T165350Z
UID:162757-1773662400-1773662400@news.gcu.edu
SUMMARY:Watch a Movie and Talk About It
DESCRIPTION:Come watch a film by Christopher Nolan and talk about it every Monday with Dr. Jonathan Olson\n\n 
URL:https://news.gcu.edu/event/watch-a-movie-and-talk-about-it-9/2026-03-16/
LOCATION:Joshua South
ATTACH;FMTTYPE=image/png:https://news.gcu.edu/app/uploads/2026/01/Picture1.png
END:VEVENT
BEGIN:VEVENT
DTSTART;TZID=America/Phoenix:20260316T170000
DTEND;TZID=America/Phoenix:20260316T170000
DTSTAMP:20260419T152837
CREATED:20260105T210459Z
LAST-MODIFIED:20260105T210459Z
UID:162420-1773680400-1773680400@news.gcu.edu
SUMMARY:Spiritual Formation Workshop
DESCRIPTION:
URL:https://news.gcu.edu/event/spiritual-formation-workshop-16/2026-03-16/
LOCATION:Echo (4-111)
ATTACH;FMTTYPE=image/jpeg:https://news.gcu.edu/app/uploads/2022/05/SpiritualFormation-rf-022822-005-1.jpg
END:VEVENT
END:VCALENDAR