BEGIN:VCALENDAR
VERSION:2.0
PRODID:-//GCU News - ECPv5.14.1//NONSGML v1.0//EN
CALSCALE:GREGORIAN
METHOD:PUBLISH
X-WR-CALNAME:GCU News
X-ORIGINAL-URL:https://news.gcu.edu
X-WR-CALDESC:Events for GCU News
REFRESH-INTERVAL;VALUE=DURATION:PT1H
X-Robots-Tag:noindex
X-PUBLISHED-TTL:PT1H
BEGIN:VTIMEZONE
TZID:America/Phoenix
BEGIN:STANDARD
TZOFFSETFROM:-0700
TZOFFSETTO:-0700
TZNAME:MST
DTSTART:20260101T000000
END:STANDARD
END:VTIMEZONE
BEGIN:VEVENT
DTSTART;VALUE=DATE:20260302
DTEND;VALUE=DATE:20260307
DTSTAMP:20260419T152837
CREATED:20260218T231215Z
LAST-MODIFIED:20260218T231215Z
UID:164297-1772409600-1772841599@news.gcu.edu
SUMMARY:Culture Week
DESCRIPTION:
URL:https://news.gcu.edu/event/culture-week-2/
ATTACH;FMTTYPE=image/jpeg:https://news.gcu.edu/app/uploads/2025/09/UnityWalk-rf-092325-012.jpg
END:VEVENT
BEGIN:VEVENT
DTSTART;TZID=America/Phoenix:20260305T110000
DTEND;TZID=America/Phoenix:20260305T130000
DTSTAMP:20260419T152837
CREATED:20260218T232423Z
LAST-MODIFIED:20260218T232423Z
UID:164305-1772708400-1772715600@news.gcu.edu
SUMMARY:Taste of the World
DESCRIPTION:
URL:https://news.gcu.edu/event/taste-of-the-world-14/
LOCATION:Student Union Promenade
ATTACH;FMTTYPE=image/jpeg:https://news.gcu.edu/app/uploads/2023/09/Multicultural-TasteOfWorld-rf-090823-004.jpg
END:VEVENT
BEGIN:VEVENT
DTSTART;TZID=America/Phoenix:20260305T140000
DTEND;TZID=America/Phoenix:20260305T160000
DTSTAMP:20260419T152837
CREATED:20260130T172722Z
LAST-MODIFIED:20260130T172722Z
UID:163608-1772719200-1772726400@news.gcu.edu
SUMMARY:Lopes Leap to Teach
DESCRIPTION:
URL:https://news.gcu.edu/event/lopes-leap-to-teach/
LOCATION:Prescott Field
ATTACH;FMTTYPE=image/jpeg:https://news.gcu.edu/app/uploads/2021/11/LeapToTeach-rf-111621-004-2.jpg
END:VEVENT
BEGIN:VEVENT
DTSTART;TZID=America/Phoenix:20260305T180000
DTEND;TZID=America/Phoenix:20260305T210000
DTSTAMP:20260419T152837
CREATED:20260218T232249Z
LAST-MODIFIED:20260218T232249Z
UID:164303-1772733600-1772744400@news.gcu.edu
SUMMARY:Culture Week: Cultural Carnival
DESCRIPTION:
URL:https://news.gcu.edu/event/culture-week-cultural-carnival/
LOCATION:The Quad
ATTACH;FMTTYPE=image/jpeg:https://news.gcu.edu/app/uploads/2025/03/CultureFest-rf-031925-005.jpg
END:VEVENT
BEGIN:VEVENT
DTSTART;TZID=America/Phoenix:20260305T193000
DTEND;TZID=America/Phoenix:20260305T193000
DTSTAMP:20260419T152837
CREATED:20260105T211033Z
LAST-MODIFIED:20260105T211033Z
UID:162433-1772739000-1772739000@news.gcu.edu
SUMMARY:Sanctuary
DESCRIPTION:
URL:https://news.gcu.edu/event/sanctuary-20/2026-03-05/
LOCATION:Sunset Auditorium
ATTACH;FMTTYPE=image/jpeg:https://news.gcu.edu/app/uploads/2024/08/LopeFamilySendoff-rf-082924-001.jpg
END:VEVENT
END:VCALENDAR